BEGIN:VCALENDAR
VERSION:2.0
PRODID:-//Basswood Counsel - ECPv6.15.20//NONSGML v1.0//EN
CALSCALE:GREGORIAN
METHOD:PUBLISH
X-WR-CALNAME:Basswood Counsel
X-ORIGINAL-URL:https://basswoodcounsel.com
X-WR-CALDESC:Events for Basswood Counsel
REFRESH-INTERVAL;VALUE=DURATION:PT1H
X-Robots-Tag:noindex
X-PUBLISHED-TTL:PT1H
BEGIN:VTIMEZONE
TZID:UTC
BEGIN:STANDARD
TZOFFSETFROM:+0000
TZOFFSETTO:+0000
TZNAME:UTC
DTSTART:20250101T000000
END:STANDARD
END:VTIMEZONE
BEGIN:VEVENT
DTSTART;TZID=UTC:20260224T120000
DTEND;TZID=UTC:20260224T140000
DTSTAMP:20260424T073214
CREATED:20260205T094814Z
LAST-MODIFIED:20260205T140914Z
UID:7056-1771934400-1771941600@basswoodcounsel.com
SUMMARY:Meg Charles Joins Industry Peers at an Exclusive Lunch Hosted by PKF O’Connor Davies
DESCRIPTION:Meg Charles joins fellow advisors\, accountants\, and industry peers at an exclusive lunch hosted by PKF O’Connor Davies. The gathering offers a valuable opportunity to connect\, exchange insights\, and engage in thoughtful conversations around emerging trends\, client needs\, and the evolving professional services landscape. \n\n\n\nConnect with Meg on LinkedIn
URL:https://basswoodcounsel.com/event/meg-charles-joins-industry-peers-exclusive-lunch-hosted-pkf-oconnor-davies/
ATTACH;FMTTYPE=image/png:https://basswoodcounsel.com/wp-content/uploads/2025/08/Meg_events.png
END:VEVENT
BEGIN:VEVENT
DTSTART;TZID=UTC:20260311T120000
DTEND;TZID=UTC:20260311T190000
DTSTAMP:20260424T073214
CREATED:20260223T204132Z
LAST-MODIFIED:20260223T204433Z
UID:7587-1773230400-1773255600@basswoodcounsel.com
SUMMARY:Basswood Counsel Co-Sponsors ayana Foundation x Cherub x Chloe Capital's 2nd Annual SXSW Kickoff Event
DESCRIPTION:This annual event is a celebration of women entrepreneurs and the vibrant Austin ecosystem. This full-day experience will bring together founders\, funders\, and industry leaders for value-driven programming designed to inspire\, educate\, and connect. \n\n\n\nConnect with Basswood Counsel on LinkedIn
URL:https://basswoodcounsel.com/event/basswood-counsel-co-sponsors-ayana-foundation-x-cherub-x-chloe-capital-for-the-2nd-annual-sxsw-kickoff-event/
ATTACH;FMTTYPE=image/png:https://basswoodcounsel.com/wp-content/uploads/2025/10/Anniversary-1.png
END:VEVENT
BEGIN:VEVENT
DTSTART;TZID=UTC:20260408T093000
DTEND;TZID=UTC:20260408T170000
DTSTAMP:20260424T073214
CREATED:20260313T064410Z
LAST-MODIFIED:20260313T064411Z
UID:8007-1775640600-1775667600@basswoodcounsel.com
SUMMARY:Basswood Counsel Attends Small Business Expo in Washington D.C.
DESCRIPTION:Small Business Expo is Washington D.C.’s largest networking and educational event for small business owners & entrepreneurs. This event is a chance to connect with fellow entrepreneurs\, industry experts\, and potential partners who can help take your business to the next level. \n\n\n\n \n\n\n\nConnect with Chris on LinkedIn\n\nConnect with Haz on LinkedIn\n\nConnect with Jephte on LinkedIn
URL:https://basswoodcounsel.com/event/basswood-counsel-small-business-expo-washington/
ATTACH;FMTTYPE=image/png:https://basswoodcounsel.com/wp-content/uploads/2026/03/Haz-Jephte-and-Chris-V2.png
END:VEVENT
BEGIN:VEVENT
DTSTART;TZID=UTC:20260410T143000
DTEND;TZID=UTC:20260410T160000
DTSTAMP:20260424T073214
CREATED:20260410T170213Z
LAST-MODIFIED:20260410T170214Z
UID:8178-1775831400-1775836800@basswoodcounsel.com
SUMMARY:Gina Lee Attends Spotlight Circle: An AACC Member Showcase
DESCRIPTION:Spotlight Circle: An AACC Member Showcase is a small\, thoughtfully curated session designed to highlight AACC members and the distinct value they bring to their industries. Each spotlight will provide a concise yet impactful overview of their business—what they do\, the purpose that drives their work\, and the qualities that set them apart in a competitive landscape. \n\n\n\n \n\n\n\nConnect with Gina on LinkedIn
URL:https://basswoodcounsel.com/event/gina-lee-attends-spotlight-circle-an-aacc-member-showcase/
ATTACH;FMTTYPE=image/jpeg:https://basswoodcounsel.com/wp-content/uploads/2025/01/GINA_JEYOUNG_LEE_BC.jpg
END:VEVENT
BEGIN:VEVENT
DTSTART;TZID=UTC:20260424T080000
DTEND;TZID=UTC:20260424T140000
DTSTAMP:20260424T073214
CREATED:20260223T205351Z
LAST-MODIFIED:20260406T074311Z
UID:7590-1777017600-1777039200@basswoodcounsel.com
SUMMARY:Basswood Counsel to Attend The Middle-Market M&A Conference in Baltimore
DESCRIPTION:The Smart Business Dealmakers Conference connects entrepreneurs\, investors\, and advisers for a day of dynamic content and networking in top U.S. business markets. \n\n\n\n \n\n\n\nConnect with Chris on LinkedIn\n\nConnect with Haz on LinkedIn\n\nConnect with Jephte on LinkedIn
URL:https://basswoodcounsel.com/event/basswood-counsel-attends-middle-market-ma-conference/
ATTACH;FMTTYPE=image/png:https://basswoodcounsel.com/wp-content/uploads/2026/03/Haz-Jephte-and-Chris-V2.png
END:VEVENT
BEGIN:VEVENT
DTSTART;TZID=UTC:20260604T000000
DTEND;TZID=UTC:20260606T235959
DTSTAMP:20260424T073214
CREATED:20260402T055546Z
LAST-MODIFIED:20260414T073623Z
UID:8140-1780531200-1780790399@basswoodcounsel.com
SUMMARY:Chris Klug is attending Integra International’s EMEIA Conference 2026 in Malta
DESCRIPTION:Integra International’s EMEIA Conference 2026 highlights engaging discussions\, valuable networking opportunities\, and insights from top industry professionals. \n\n\n\n \n\n\n\nConnect with Chris on LinkedIn
URL:https://basswoodcounsel.com/event/integra-emeia-conference-2026-malta/
ATTACH;FMTTYPE=image/png:https://basswoodcounsel.com/wp-content/uploads/2025/05/Events-4.png
END:VEVENT
BEGIN:VEVENT
DTSTART;TZID=UTC:20261022T000000
DTEND;TZID=UTC:20261024T235959
DTSTAMP:20260424T073214
CREATED:20260414T075334Z
LAST-MODIFIED:20260414T081555Z
UID:8201-1792627200-1792886399@basswoodcounsel.com
SUMMARY:Chris Klug is attending Integra International’s Annual Global Conference 2026 in the Netherlands
DESCRIPTION:Integra International’s EMEIA Conference 2026 highlights engaging discussions\, valuable networking opportunities\, and insights from top industry professionals. \n\n\n\n \n\n\n\nConnect with Chris on LinkedIn
URL:https://basswoodcounsel.com/event/chris-klug-is-attending-integra-global-conference-2026-netherlands/
ATTACH;FMTTYPE=image/png:https://basswoodcounsel.com/wp-content/uploads/2025/05/Events-4.png
END:VEVENT
END:VCALENDAR